BEGIN:VCALENDAR
VERSION:2.0
PRODID:-//Heist Brewery - ECPv6.15.20//NONSGML v1.0//EN
CALSCALE:GREGORIAN
METHOD:PUBLISH
X-ORIGINAL-URL:https://heistbrewery.com
X-WR-CALDESC:Events for Heist Brewery
REFRESH-INTERVAL;VALUE=DURATION:PT1H
X-Robots-Tag:noindex
X-PUBLISHED-TTL:PT1H
BEGIN:VTIMEZONE
TZID:UTC
BEGIN:STANDARD
TZOFFSETFROM:+0000
TZOFFSETTO:+0000
TZNAME:UTC
DTSTART:20230101T000000
END:STANDARD
END:VTIMEZONE
BEGIN:VEVENT
DTSTART;TZID=UTC:20241205T190000
DTEND;TZID=UTC:20241205T220000
DTSTAMP:20260421T144507
CREATED:20241028T001816Z
LAST-MODIFIED:20241028T004337Z
UID:478-1733425200-1733436000@heistbrewery.com
SUMMARY:Dizgo featuring Once Below Joy
DESCRIPTION:From Time 2 Fly and Records on the Wall: \nTime2Fly Music & Records On The Wall Present – Dizgo at Heist Noda\nAll Ages\nDoors 7\nShow 8\nNo Refunds\n“DIZGO has one of the most operative names in the jam band scene\, evoking a transcendence of genre: a dizzier disco\, filled with a hodge-podge of genres\, styles\, and technical influences while still\, at it’s core\, a dance party” – Space Tapes\nDizgo redefines the live experience by blending jamtronica with funk\, deep-groove soul\, and psychedelic rock\, taking the audience on a musical journey that includes intricate compositions and extended improvisation. The result is something both danceable and introspective: soulful vocals\, interweaving analog synths and shredding guitar all of which join forces under the banner of Dizgo.\nThe band has played stand-out performances at festivals such as Peach Music Festival\, Summer Camp Music Festival\, Resonance Music Festival\, Werk Out Music Festival\, Sonic Bloom Music Festival\, and much more and has supported acts such as Goose\, George Clinton & Parliament Funkadelic\, Pigeons Playing Ping Pong\, Papadosio\, The Main Squeeze\, Aqueous\, Lespecial\, and more. \nTickets Available 
URL:https://heistbrewery.com/event/dizgo-featuring-once-below-joy/
LOCATION:Noda Location\, 2909 N Davidson St STE 200\, Charlotte\, NC\, 28205\, United States
CATEGORIES:Live Music
ATTACH;FMTTYPE=image/jpeg:https://heistbrewery.com/wp-content/uploads/2024/10/b00935ff-eeca-4029-9734-9d938303b18d.jpg
END:VEVENT
END:VCALENDAR